BEGIN:VCALENDAR
VERSION:2.0
PRODID:-//The Allens - ECPv6.15.20//NONSGML v1.0//EN
CALSCALE:GREGORIAN
METHOD:PUBLISH
X-ORIGINAL-URL:https://theallensmusic.com
X-WR-CALDESC:Events for The Allens
REFRESH-INTERVAL;VALUE=DURATION:PT1H
X-Robots-Tag:noindex
X-PUBLISHED-TTL:PT1H
BEGIN:VTIMEZONE
TZID:America/Detroit
BEGIN:DAYLIGHT
TZOFFSETFROM:-0500
TZOFFSETTO:-0400
TZNAME:EDT
DTSTART:20250309T070000
END:DAYLIGHT
BEGIN:STANDARD
TZOFFSETFROM:-0400
TZOFFSETTO:-0500
TZNAME:EST
DTSTART:20251102T060000
END:STANDARD
BEGIN:DAYLIGHT
TZOFFSETFROM:-0500
TZOFFSETTO:-0400
TZNAME:EDT
DTSTART:20260308T070000
END:DAYLIGHT
BEGIN:STANDARD
TZOFFSETFROM:-0400
TZOFFSETTO:-0500
TZNAME:EST
DTSTART:20261101T060000
END:STANDARD
BEGIN:DAYLIGHT
TZOFFSETFROM:-0500
TZOFFSETTO:-0400
TZNAME:EDT
DTSTART:20270314T070000
END:DAYLIGHT
BEGIN:STANDARD
TZOFFSETFROM:-0400
TZOFFSETTO:-0500
TZNAME:EST
DTSTART:20271107T060000
END:STANDARD
END:VTIMEZONE
BEGIN:VEVENT
DTSTART;TZID=America/Detroit:20260222T080000
DTEND;TZID=America/Detroit:20260222T090000
DTSTAMP:20260420T231004
CREATED:20251115T165424Z
LAST-MODIFIED:20251115T165424Z
UID:1469-1771747200-1771750800@theallensmusic.com
SUMMARY:Crossroad Bible Church
DESCRIPTION:
URL:https://theallensmusic.com/event/crossroad-bible-church/
LOCATION:Crossroad Bible Church\, 243 Marshall Mill Road\, Fort Valley\, GA\, 31030\, United States
END:VEVENT
BEGIN:VEVENT
DTSTART;TZID=America/Detroit:20260222T103000
DTEND;TZID=America/Detroit:20260222T113000
DTSTAMP:20260420T231004
CREATED:20251115T165550Z
LAST-MODIFIED:20251115T165550Z
UID:1471-1771756200-1771759800@theallensmusic.com
SUMMARY:Crossroad Baptist Church
DESCRIPTION:
URL:https://theallensmusic.com/event/crossroad-baptist-church/
LOCATION:Crossroad Bible Church\, 243 Marshall Mill Road\, Fort Valley\, GA\, 31030\, United States
END:VEVENT
BEGIN:VEVENT
DTSTART;TZID=America/Detroit:20260222T180000
DTEND;TZID=America/Detroit:20260222T190000
DTSTAMP:20260420T231004
CREATED:20251115T165656Z
LAST-MODIFIED:20251115T165656Z
UID:1473-1771783200-1771786800@theallensmusic.com
SUMMARY:Crossroad Bible Church
DESCRIPTION:
URL:https://theallensmusic.com/event/crossroad-bible-church-2/
LOCATION:Crossroad Bible Church\, 243 Marshall Mill Road\, Fort Valley\, GA\, 31030\, United States
END:VEVENT
END:VCALENDAR