BEGIN:VCALENDAR
VERSION:2.0
PRODID:-//The Allens - ECPv6.15.20//NONSGML v1.0//EN
CALSCALE:GREGORIAN
METHOD:PUBLISH
X-ORIGINAL-URL:https://theallensmusic.com
X-WR-CALDESC:Events for The Allens
REFRESH-INTERVAL;VALUE=DURATION:PT1H
X-Robots-Tag:noindex
X-PUBLISHED-TTL:PT1H
BEGIN:VTIMEZONE
TZID:America/Detroit
BEGIN:DAYLIGHT
TZOFFSETFROM:-0500
TZOFFSETTO:-0400
TZNAME:EDT
DTSTART:20250309T070000
END:DAYLIGHT
BEGIN:STANDARD
TZOFFSETFROM:-0400
TZOFFSETTO:-0500
TZNAME:EST
DTSTART:20251102T060000
END:STANDARD
BEGIN:DAYLIGHT
TZOFFSETFROM:-0500
TZOFFSETTO:-0400
TZNAME:EDT
DTSTART:20260308T070000
END:DAYLIGHT
BEGIN:STANDARD
TZOFFSETFROM:-0400
TZOFFSETTO:-0500
TZNAME:EST
DTSTART:20261101T060000
END:STANDARD
BEGIN:DAYLIGHT
TZOFFSETFROM:-0500
TZOFFSETTO:-0400
TZNAME:EDT
DTSTART:20270314T070000
END:DAYLIGHT
BEGIN:STANDARD
TZOFFSETFROM:-0400
TZOFFSETTO:-0500
TZNAME:EST
DTSTART:20271107T060000
END:STANDARD
END:VTIMEZONE
BEGIN:VTIMEZONE
TZID:America/Chicago
BEGIN:DAYLIGHT
TZOFFSETFROM:-0600
TZOFFSETTO:-0500
TZNAME:CDT
DTSTART:20250309T080000
END:DAYLIGHT
BEGIN:STANDARD
TZOFFSETFROM:-0500
TZOFFSETTO:-0600
TZNAME:CST
DTSTART:20251102T070000
END:STANDARD
BEGIN:DAYLIGHT
TZOFFSETFROM:-0600
TZOFFSETTO:-0500
TZNAME:CDT
DTSTART:20260308T080000
END:DAYLIGHT
BEGIN:STANDARD
TZOFFSETFROM:-0500
TZOFFSETTO:-0600
TZNAME:CST
DTSTART:20261101T070000
END:STANDARD
BEGIN:DAYLIGHT
TZOFFSETFROM:-0600
TZOFFSETTO:-0500
TZNAME:CDT
DTSTART:20270314T080000
END:DAYLIGHT
BEGIN:STANDARD
TZOFFSETFROM:-0500
TZOFFSETTO:-0600
TZNAME:CST
DTSTART:20271107T070000
END:STANDARD
END:VTIMEZONE
BEGIN:VTIMEZONE
TZID:UTC
BEGIN:STANDARD
TZOFFSETFROM:+0000
TZOFFSETTO:+0000
TZNAME:UTC
DTSTART:20250101T000000
END:STANDARD
END:VTIMEZONE
BEGIN:VEVENT
DTSTART;TZID=America/Detroit:20260301T110000
DTEND;TZID=America/Detroit:20260301T120000
DTSTAMP:20260420T191627
CREATED:20260128T225416Z
LAST-MODIFIED:20260128T225416Z
UID:1521-1772362800-1772366400@theallensmusic.com
SUMMARY:Tuscanooga Baptist Church
DESCRIPTION:
URL:https://theallensmusic.com/event/tuscanooga-baptist-church/
LOCATION:Tuscanooga Baptist Church\, 18540 Tuscanooga Rd.\, Groveland\, FL\, 34736\, United States
END:VEVENT
BEGIN:VEVENT
DTSTART;TZID=America/Detroit:20260308T103000
DTEND;TZID=America/Detroit:20260308T113000
DTSTAMP:20260420T191627
CREATED:20260128T225656Z
LAST-MODIFIED:20260128T225656Z
UID:1525-1772965800-1772969400@theallensmusic.com
SUMMARY:Calvary Baptist Church
DESCRIPTION:
URL:https://theallensmusic.com/event/calvary-baptist-church/
LOCATION:Calvary Baptist Church Brunswick\, 3105 Wildwood Dr.\, Brunswick\, GA\, 31520\, United States
END:VEVENT
BEGIN:VEVENT
DTSTART;TZID=America/Detroit:20260308T180000
DTEND;TZID=America/Detroit:20260308T190000
DTSTAMP:20260420T191627
CREATED:20260128T225813Z
LAST-MODIFIED:20260128T225813Z
UID:1529-1772992800-1772996400@theallensmusic.com
SUMMARY:Calvary Baptist Church
DESCRIPTION:
URL:https://theallensmusic.com/event/calvary-baptist-church-2/
LOCATION:Calvary Baptist Church Brunswick\, 3105 Wildwood Dr.\, Brunswick\, GA\, 31520\, United States
END:VEVENT
BEGIN:VEVENT
DTSTART;TZID=America/Detroit:20260315T090000
DTEND;TZID=America/Detroit:20260315T100000
DTSTAMP:20260420T191627
CREATED:20260128T230122Z
LAST-MODIFIED:20260128T230122Z
UID:1531-1773565200-1773568800@theallensmusic.com
SUMMARY:Mt. Olive Baptist Church
DESCRIPTION:
URL:https://theallensmusic.com/event/mt-olive-baptist-church/
LOCATION:Mt. Olive Baptist Church\, 1177 GA-109\, Molena\, GA\, 30258\, United States
END:VEVENT
BEGIN:VEVENT
DTSTART;TZID=America/Detroit:20260315T111500
DTEND;TZID=America/Detroit:20260315T121500
DTSTAMP:20260420T191627
CREATED:20260128T230218Z
LAST-MODIFIED:20260128T230218Z
UID:1535-1773573300-1773576900@theallensmusic.com
SUMMARY:Mt. Olive Baptist Church
DESCRIPTION:
URL:https://theallensmusic.com/event/mt-olive-baptist-church-2/
LOCATION:Mt. Olive Baptist Church\, 1177 GA-109\, Molena\, GA\, 30258\, United States
END:VEVENT
BEGIN:VEVENT
DTSTART;TZID=America/Detroit:20260322T110000
DTEND;TZID=America/Detroit:20260322T120000
DTSTAMP:20260420T191627
CREATED:20260128T230338Z
LAST-MODIFIED:20260128T230338Z
UID:1537-1774177200-1774180800@theallensmusic.com
SUMMARY:Roberta Church
DESCRIPTION:
URL:https://theallensmusic.com/event/roberta-church-2/
LOCATION:Roberta Church\, 116 W Agency St\, Roberta\, GA\, 31078\, United States
END:VEVENT
BEGIN:VEVENT
DTSTART;TZID=America/Chicago:20260329T103000
DTEND;TZID=America/Chicago:20260329T113000
DTSTAMP:20260420T191627
CREATED:20260128T231622Z
LAST-MODIFIED:20260128T231622Z
UID:1539-1774780200-1774783800@theallensmusic.com
SUMMARY:New Life Baptist Church
DESCRIPTION:
URL:https://theallensmusic.com/event/new-life-baptist-church/
LOCATION:New Life Baptist Church\, Albany\, 24642 Hwy 442\, Albany\, LA\, 70711\, United States
END:VEVENT
BEGIN:VEVENT
DTSTART;TZID=America/Chicago:20260412T100000
DTEND;TZID=America/Chicago:20260412T110000
DTSTAMP:20260420T191627
CREATED:20260204T192411Z
LAST-MODIFIED:20260204T192411Z
UID:1555-1775988000-1775991600@theallensmusic.com
SUMMARY:Living Proof Church
DESCRIPTION:
URL:https://theallensmusic.com/event/living-proof-church/
LOCATION:Living Proof Church\, 32401 Harmony Rd\, Paola\, KS\, 66071\, United States
END:VEVENT
BEGIN:VEVENT
DTSTART;TZID=America/Chicago:20260418T180000
DTEND;TZID=America/Chicago:20260418T190000
DTSTAMP:20260420T191627
CREATED:20260204T192732Z
LAST-MODIFIED:20260204T192732Z
UID:1559-1776535200-1776538800@theallensmusic.com
SUMMARY:New Beginnings Church
DESCRIPTION:
URL:https://theallensmusic.com/event/new-beginnings-church/
LOCATION:New Beginnings Church\, 407 S Shaw St\, Richmond\, MO\, 64085\, United States
END:VEVENT
BEGIN:VEVENT
DTSTART;TZID=America/Chicago:20260419T103000
DTEND;TZID=America/Chicago:20260419T113000
DTSTAMP:20260420T191627
CREATED:20260204T192835Z
LAST-MODIFIED:20260204T192835Z
UID:1563-1776594600-1776598200@theallensmusic.com
SUMMARY:New Beginnings Church
DESCRIPTION:
URL:https://theallensmusic.com/event/new-beginnings-church-2/
LOCATION:New Beginnings Church\, 407 S Shaw St\, Richmond\, MO\, 64085\, United States
END:VEVENT
BEGIN:VEVENT
DTSTART;TZID=America/Chicago:20260426T103000
DTEND;TZID=America/Chicago:20260426T113000
DTSTAMP:20260420T191627
CREATED:20260128T232309Z
LAST-MODIFIED:20260128T232309Z
UID:1543-1777199400-1777203000@theallensmusic.com
SUMMARY:First Baptist Church of Stilwell
DESCRIPTION:
URL:https://theallensmusic.com/event/first-baptist-church-of-stilwell/
LOCATION:First Baptist Church Stilwell\, 801 W Hickory\, Stilwell\, OK\, 74960\, United States
END:VEVENT
BEGIN:VEVENT
DTSTART;TZID=America/Chicago:20260503T100000
DTEND;TZID=America/Chicago:20260503T110000
DTSTAMP:20260420T191627
CREATED:20260106T164707Z
LAST-MODIFIED:20260106T164707Z
UID:1503-1777802400-1777806000@theallensmusic.com
SUMMARY:Bethel Baptist Church
DESCRIPTION:
URL:https://theallensmusic.com/event/bethel-baptist-church-3/
LOCATION:Bethel Baptist Church\, 7451 Hwy 43 North\, Poplarville\, MS\, 39470\, United States
END:VEVENT
BEGIN:VEVENT
DTSTART;TZID=America/Chicago:20260503T180000
DTEND;TZID=America/Chicago:20260503T190000
DTSTAMP:20260420T191627
CREATED:20260106T164948Z
LAST-MODIFIED:20260106T164948Z
UID:1505-1777831200-1777834800@theallensmusic.com
SUMMARY:Bethel Baptist Church
DESCRIPTION:
URL:https://theallensmusic.com/event/bethel-baptist-church-4/
LOCATION:Bethel Baptist Church\, 7451 Hwy 43 North\, Poplarville\, MS\, 39470\, United States
END:VEVENT
BEGIN:VEVENT
DTSTART;TZID=America/Chicago:20260510T110000
DTEND;TZID=America/Chicago:20260510T120000
DTSTAMP:20260420T191627
CREATED:20260128T232618Z
LAST-MODIFIED:20260128T232618Z
UID:1547-1778410800-1778414400@theallensmusic.com
SUMMARY:Grace Baptist Church Tickfaw
DESCRIPTION:
URL:https://theallensmusic.com/event/grace-baptist-church-tickfaw/
LOCATION:Grace Baptist Church Tickfaw\, 16372 Natalbany Rd.\, Tickfaw\, LA\, 70466\, United States
END:VEVENT
BEGIN:VEVENT
DTSTART;TZID=America/Chicago:20260517T103000
DTEND;TZID=America/Chicago:20260517T113000
DTSTAMP:20260420T191627
CREATED:20260312T172717Z
LAST-MODIFIED:20260312T172717Z
UID:2327-1779013800-1779017400@theallensmusic.com
SUMMARY:Colyell Baptist Church
DESCRIPTION:
URL:https://theallensmusic.com/event/colyell-baptist-church/
LOCATION:Colyell Baptist Church\, 19524 LA-42\, Livingston\, LA\, 70754\, United States
END:VEVENT
BEGIN:VEVENT
DTSTART;TZID=UTC:20260517T180000
DTEND;TZID=UTC:20260517T190000
DTSTAMP:20260420T191627
CREATED:20260312T173106Z
LAST-MODIFIED:20260312T173106Z
UID:2331-1779040800-1779044400@theallensmusic.com
SUMMARY:Natalbany Baptist Church
DESCRIPTION:
URL:https://theallensmusic.com/event/natalbany-baptist-church/
LOCATION:Natalbany Baptist Church\, 48024 Parsonage Rd.\, Natalbany\, LA\, 70451\, United States
END:VEVENT
BEGIN:VEVENT
DTSTART;TZID=America/Chicago:20260531T110000
DTEND;TZID=America/Chicago:20260531T120000
DTSTAMP:20260420T191627
CREATED:20260128T232721Z
LAST-MODIFIED:20260128T232721Z
UID:1551-1780225200-1780228800@theallensmusic.com
SUMMARY:Wallace Baptist Church
DESCRIPTION:
URL:https://theallensmusic.com/event/wallace-baptist-church-2/
LOCATION:Wallace Baptist Church\, 5605 HWY 177\, Pelican\, LA\, 71063\, United States
END:VEVENT
BEGIN:VEVENT
DTSTART;TZID=America/Chicago:20260531T180000
DTEND;TZID=America/Chicago:20260531T190000
DTSTAMP:20260420T191627
CREATED:20260128T233007Z
LAST-MODIFIED:20260128T233007Z
UID:1553-1780250400-1780254000@theallensmusic.com
SUMMARY:Old Pisgah Baptist Church
DESCRIPTION:
URL:https://theallensmusic.com/event/old-pisgah-baptist-church/
LOCATION:Old Pisgah Baptist Church\, 15192 HWY 120\, Marthaville\, LA\, 71450\, United States
END:VEVENT
BEGIN:VEVENT
DTSTART;TZID=America/Detroit:20260726T193000
DTEND;TZID=America/Detroit:20260726T203000
DTSTAMP:20260420T191627
CREATED:20260106T165730Z
LAST-MODIFIED:20260106T165730Z
UID:1507-1785094200-1785097800@theallensmusic.com
SUMMARY:Owosso First Church of the Nazarene
DESCRIPTION:
URL:https://theallensmusic.com/event/owosso-first-church-of-the-nazarene/
LOCATION:Owosso First Church of the Nazarene\, 1865 South M-52\, Owosso\, MI\, 48867\, United States
END:VEVENT
END:VCALENDAR