BEGIN:VCALENDAR
VERSION:2.0
PRODID:-//The Allens - ECPv6.15.20//NONSGML v1.0//EN
CALSCALE:GREGORIAN
METHOD:PUBLISH
X-WR-CALNAME:The Allens
X-ORIGINAL-URL:https://theallensmusic.com
X-WR-CALDESC:Events for The Allens
REFRESH-INTERVAL;VALUE=DURATION:PT1H
X-Robots-Tag:noindex
X-PUBLISHED-TTL:PT1H
BEGIN:VTIMEZONE
TZID:America/Chicago
BEGIN:DAYLIGHT
TZOFFSETFROM:-0600
TZOFFSETTO:-0500
TZNAME:CDT
DTSTART:20240310T080000
END:DAYLIGHT
BEGIN:STANDARD
TZOFFSETFROM:-0500
TZOFFSETTO:-0600
TZNAME:CST
DTSTART:20241103T070000
END:STANDARD
BEGIN:DAYLIGHT
TZOFFSETFROM:-0600
TZOFFSETTO:-0500
TZNAME:CDT
DTSTART:20250309T080000
END:DAYLIGHT
BEGIN:STANDARD
TZOFFSETFROM:-0500
TZOFFSETTO:-0600
TZNAME:CST
DTSTART:20251102T070000
END:STANDARD
BEGIN:DAYLIGHT
TZOFFSETFROM:-0600
TZOFFSETTO:-0500
TZNAME:CDT
DTSTART:20260308T080000
END:DAYLIGHT
BEGIN:STANDARD
TZOFFSETFROM:-0500
TZOFFSETTO:-0600
TZNAME:CST
DTSTART:20261101T070000
END:STANDARD
END:VTIMEZONE
BEGIN:VTIMEZONE
TZID:UTC
BEGIN:STANDARD
TZOFFSETFROM:+0000
TZOFFSETTO:+0000
TZNAME:UTC
DTSTART:20230101T000000
END:STANDARD
END:VTIMEZONE
BEGIN:VEVENT
DTSTART;TZID=America/Chicago:20250105T080000
DTEND;TZID=America/Chicago:20250105T090000
DTSTAMP:20260421T045440
CREATED:20250103T200431Z
LAST-MODIFIED:20250103T200431Z
UID:435-1736064000-1736067600@theallensmusic.com
SUMMARY:New Zion Baptist Church
DESCRIPTION:
URL:https://theallensmusic.com/event/new-zion-baptist-church/
LOCATION:New Zion Baptist Church\, 17387 New Zion Rd\, Covington\, LA\, 70435\, United States
END:VEVENT
BEGIN:VEVENT
DTSTART;TZID=UTC:20241222T180000
DTEND;TZID=UTC:20241222T190000
DTSTAMP:20260421T045440
CREATED:20240918T175922Z
LAST-MODIFIED:20240918T175922Z
UID:300-1734890400-1734894000@theallensmusic.com
SUMMARY:Cherry Street Baptist
DESCRIPTION:
URL:https://theallensmusic.com/event/cherry-street-baptist-2/
LOCATION:Cherry Street Baptist Church\, 1201 S. Oak Grove Ave\, Springfield\, MO\, 65804\, United States
CATEGORIES:December 2024
END:VEVENT
BEGIN:VEVENT
DTSTART;TZID=UTC:20241215T180000
DTEND;TZID=UTC:20241215T190000
DTSTAMP:20260421T045440
CREATED:20240813T142546Z
LAST-MODIFIED:20240813T142546Z
UID:176-1734285600-1734289200@theallensmusic.com
SUMMARY:Promised Land Baptist
DESCRIPTION:
URL:https://theallensmusic.com/event/promised-land-baptist/
LOCATION:Promised Land Missionary Baptist\, 765 Ashley Rd. 70\, Hamburg\, AR\, 71646\, United States
CATEGORIES:December 2024
END:VEVENT
BEGIN:VEVENT
DTSTART;TZID=UTC:20241215T103000
DTEND;TZID=UTC:20241215T233000
DTSTAMP:20260421T045440
CREATED:20240826T191124Z
LAST-MODIFIED:20240826T191124Z
UID:243-1734258600-1734305400@theallensmusic.com
SUMMARY:Pilgrim's Rest Baptist Church
DESCRIPTION:
URL:https://theallensmusic.com/event/pilgrims-rest-baptist-church/
LOCATION:Pilgrim’s Rest Baptist Church\, 902 pilgrims rest road\, Spearsville\, LA\, 71277\, United States
CATEGORIES:December 2024
END:VEVENT
BEGIN:VEVENT
DTSTART;TZID=UTC:20241214T180000
DTEND;TZID=UTC:20241214T190000
DTSTAMP:20260421T045440
CREATED:20240918T175550Z
LAST-MODIFIED:20240918T175550Z
UID:294-1734199200-1734202800@theallensmusic.com
SUMMARY:Princess Theater
DESCRIPTION:
URL:https://theallensmusic.com/event/princess-theater-2/
LOCATION:Princess Theater\, 714 Praire St.\, Winsboro\, LA\, 71295\, United States
CATEGORIES:December 2024
END:VEVENT
BEGIN:VEVENT
DTSTART;TZID=UTC:20241214T140000
DTEND;TZID=UTC:20241214T150000
DTSTAMP:20260421T045440
CREATED:20241027T030716Z
LAST-MODIFIED:20241027T030716Z
UID:370-1734184800-1734188400@theallensmusic.com
SUMMARY:Princess Theater
DESCRIPTION:
URL:https://theallensmusic.com/event/princess-theater/
LOCATION:Princess Theater\, 714 Praire St.\, Winsboro\, LA\, 71295\, United States
CATEGORIES:December 2024
END:VEVENT
BEGIN:VEVENT
DTSTART;TZID=UTC:20241211T180000
DTEND;TZID=UTC:20241211T190000
DTSTAMP:20260421T045440
CREATED:20240813T142350Z
LAST-MODIFIED:20240813T142350Z
UID:173-1733940000-1733943600@theallensmusic.com
SUMMARY:FBC Haughton
DESCRIPTION:
URL:https://theallensmusic.com/event/fbc-haughton/
LOCATION:FBC Haughton\, 105 E. Washington Ave\, Haughton\, LA\, 71037\, United States
CATEGORIES:December 2024
END:VEVENT
BEGIN:VEVENT
DTSTART;TZID=UTC:20241208T180000
DTEND;TZID=UTC:20241208T190000
DTSTAMP:20260421T045440
CREATED:20240918T175146Z
LAST-MODIFIED:20240918T175146Z
UID:287-1733680800-1733684400@theallensmusic.com
SUMMARY:Wallace Baptist Church
DESCRIPTION:
URL:https://theallensmusic.com/event/wallace-baptist-church/
LOCATION:Wallace Baptist Church\, 5605 HWY 177\, Pelican\, LA\, 71063\, United States
CATEGORIES:December 2024
END:VEVENT
BEGIN:VEVENT
DTSTART;TZID=UTC:20241208T100000
DTEND;TZID=UTC:20241208T110000
DTSTAMP:20260421T045440
CREATED:20241104T200631Z
LAST-MODIFIED:20241104T200631Z
UID:402-1733652000-1733655600@theallensmusic.com
SUMMARY:Living Branch Church
DESCRIPTION:
URL:https://theallensmusic.com/event/living-branch-church/
LOCATION:Living Branch Church\, 13229 TX-105\, Conroe\, TX\, 77304\, United States
CATEGORIES:December 2024
END:VEVENT
BEGIN:VEVENT
DTSTART;TZID=UTC:20241207T190000
DTEND;TZID=UTC:20241207T200000
DTSTAMP:20260421T045440
CREATED:20240918T175033Z
LAST-MODIFIED:20240918T175033Z
UID:284-1733598000-1733601600@theallensmusic.com
SUMMARY:First Baptist Church
DESCRIPTION:
URL:https://theallensmusic.com/event/first-baptist-church-2/
LOCATION:FBC Willis\, 12177 I 45 N\, Willis\, TX\, 77378\, United States
CATEGORIES:December 2024
END:VEVENT
BEGIN:VEVENT
DTSTART;TZID=UTC:20241205T183000
DTEND;TZID=UTC:20241205T193000
DTSTAMP:20260421T045440
CREATED:20240918T174837Z
LAST-MODIFIED:20240918T174837Z
UID:281-1733423400-1733427000@theallensmusic.com
SUMMARY:Butler Christian Community
DESCRIPTION:
URL:https://theallensmusic.com/event/butler-christian-community/
LOCATION:Butler Christian Community\, 501 W. Green St\, Butler\, IN\, 46721\, United States
CATEGORIES:December 2024
END:VEVENT
BEGIN:VEVENT
DTSTART;TZID=UTC:20241204T180000
DTEND;TZID=UTC:20241204T190000
DTSTAMP:20260421T045440
CREATED:20240918T174632Z
LAST-MODIFIED:20240918T174632Z
UID:279-1733335200-1733338800@theallensmusic.com
SUMMARY:12th Street Baptist
DESCRIPTION:
URL:https://theallensmusic.com/event/12th-street-baptist-2/
LOCATION:12th Street Baptist\, 3911 S. 12th Street\, Kalamazoo\, MI\, 49009\, United States
CATEGORIES:December 2024
END:VEVENT
BEGIN:VEVENT
DTSTART;TZID=UTC:20241203T190000
DTEND;TZID=UTC:20241203T200000
DTSTAMP:20260421T045440
CREATED:20240918T174509Z
LAST-MODIFIED:20241104T171850Z
UID:275-1733252400-1733256000@theallensmusic.com
SUMMARY:Southern Heights Christian Church
DESCRIPTION:
URL:https://theallensmusic.com/event/southern-heights-christian-church/
LOCATION:Southern Heights Christian Church\, 5401 Madison Ave\, Anderson\, IN\, 46013\, United States
CATEGORIES:December 2024
END:VEVENT
BEGIN:VEVENT
DTSTART;TZID=UTC:20241201T180000
DTEND;TZID=UTC:20241201T190000
DTSTAMP:20260421T045440
CREATED:20240918T174242Z
LAST-MODIFIED:20240918T174242Z
UID:272-1733076000-1733079600@theallensmusic.com
SUMMARY:River Fellowship Baptist
DESCRIPTION:
URL:https://theallensmusic.com/event/river-fellowship-baptist/
LOCATION:The River Fellowship\, 45173 River Rd\, Hammond\, LA\, 70401\, United States
CATEGORIES:December 2024
END:VEVENT
BEGIN:VEVENT
DTSTART;TZID=UTC:20241201T103000
DTEND;TZID=UTC:20241201T113000
DTSTAMP:20260421T045440
CREATED:20240813T141937Z
LAST-MODIFIED:20241025T212018Z
UID:167-1733049000-1733052600@theallensmusic.com
SUMMARY:Clifton Baptist
DESCRIPTION:
URL:https://theallensmusic.com/event/clifton-baptist/
LOCATION:Clifton Baptist Church\, 27312 LA-25\, Franklinton\, LA\, 70438\, United States
CATEGORIES:December 2024
END:VEVENT
BEGIN:VEVENT
DTSTART;TZID=UTC:20241124T110000
DTEND;TZID=UTC:20241124T120000
DTSTAMP:20260421T045440
CREATED:20241104T200437Z
LAST-MODIFIED:20241104T200437Z
UID:399-1732446000-1732449600@theallensmusic.com
SUMMARY:Kedron Baptist
DESCRIPTION:
URL:https://theallensmusic.com/event/kedron-baptist/
LOCATION:Kedron Baptist Church\, 922 LA-1046\, Amite City\, LA\, 70422\, United States
CATEGORIES:November 2024
END:VEVENT
BEGIN:VEVENT
DTSTART;TZID=UTC:20241120T190000
DTEND;TZID=UTC:20241120T200000
DTSTAMP:20260421T045440
CREATED:20240918T173525Z
LAST-MODIFIED:20240918T173525Z
UID:269-1732129200-1732132800@theallensmusic.com
SUMMARY:Canaan Baptist Church
DESCRIPTION:
URL:https://theallensmusic.com/event/canaan-baptist-church-5/
LOCATION:Canaan Baptist Church\, 18486 Sanders Rd.\, Franklinton\, LA\, 70438\, United States
CATEGORIES:November 2024
END:VEVENT
BEGIN:VEVENT
DTSTART;TZID=UTC:20241119T190000
DTEND;TZID=UTC:20241119T200000
DTSTAMP:20260421T045440
CREATED:20240918T173436Z
LAST-MODIFIED:20240918T173436Z
UID:267-1732042800-1732046400@theallensmusic.com
SUMMARY:Canaan Baptist Church
DESCRIPTION:
URL:https://theallensmusic.com/event/canaan-baptist-church-4/
LOCATION:Canaan Baptist Church\, 18486 Sanders Rd.\, Franklinton\, LA\, 70438\, United States
CATEGORIES:November 2024
END:VEVENT
BEGIN:VEVENT
DTSTART;TZID=UTC:20241118T190000
DTEND;TZID=UTC:20241118T200000
DTSTAMP:20260421T045440
CREATED:20240918T173335Z
LAST-MODIFIED:20240918T173335Z
UID:265-1731956400-1731960000@theallensmusic.com
SUMMARY:Canaan Baptist Church
DESCRIPTION:
URL:https://theallensmusic.com/event/canaan-baptist-church-3/
LOCATION:Canaan Baptist Church\, 18486 Sanders Rd.\, Franklinton\, LA\, 70438\, United States
CATEGORIES:November 2024
END:VEVENT
BEGIN:VEVENT
DTSTART;TZID=UTC:20241117T180000
DTEND;TZID=UTC:20241117T190000
DTSTAMP:20260421T045440
CREATED:20240918T173217Z
LAST-MODIFIED:20240918T173217Z
UID:263-1731866400-1731870000@theallensmusic.com
SUMMARY:Canaan Baptist Church
DESCRIPTION:
URL:https://theallensmusic.com/event/canaan-baptist-church-2/
LOCATION:Canaan Baptist Church\, 18486 Sanders Rd.\, Franklinton\, LA\, 70438\, United States
CATEGORIES:November 2024
END:VEVENT
BEGIN:VEVENT
DTSTART;TZID=UTC:20241117T110000
DTEND;TZID=UTC:20241117T120000
DTSTAMP:20260421T045440
CREATED:20240918T173057Z
LAST-MODIFIED:20240918T173240Z
UID:260-1731841200-1731844800@theallensmusic.com
SUMMARY:Canaan Baptist Church
DESCRIPTION:
URL:https://theallensmusic.com/event/canaan-baptist-church/
LOCATION:Canaan Baptist Church\, 18486 Sanders Rd.\, Franklinton\, LA\, 70438\, United States
CATEGORIES:November 2024
END:VEVENT
BEGIN:VEVENT
DTSTART;TZID=UTC:20241110T180000
DTEND;TZID=UTC:20241110T190000
DTSTAMP:20260421T045440
CREATED:20241002T163531Z
LAST-MODIFIED:20241002T163531Z
UID:323-1731261600-1731265200@theallensmusic.com
SUMMARY:Bienville Methodist
DESCRIPTION:
URL:https://theallensmusic.com/event/bienville-methodist/
LOCATION:Bienville Methodist Church\, 511 Spruce St.\, Bienville\, LA\, 71008\, United States
CATEGORIES:November 2024
END:VEVENT
BEGIN:VEVENT
DTSTART;TZID=UTC:20241110T100000
DTEND;TZID=UTC:20241110T120000
DTSTAMP:20260421T045440
CREATED:20240924T200754Z
LAST-MODIFIED:20240924T200754Z
UID:318-1731232800-1731240000@theallensmusic.com
SUMMARY:Friendship Baptist Church
DESCRIPTION:
URL:https://theallensmusic.com/event/friendship-baptist-church/
LOCATION:Friendship Baptist Church\, 16511 Hwy 4\, Bienville\, LA\, 71008\, United States
CATEGORIES:December 2024
END:VEVENT
BEGIN:VEVENT
DTSTART;TZID=UTC:20241106T183000
DTEND;TZID=UTC:20241106T193000
DTSTAMP:20260421T045440
CREATED:20240924T200419Z
LAST-MODIFIED:20240924T200419Z
UID:316-1730917800-1730921400@theallensmusic.com
SUMMARY:Aimoch Baptist Church
DESCRIPTION:
URL:https://theallensmusic.com/event/aimoch-baptist-church-6/
LOCATION:Aimoch Baptist Church\, 235 HWY 503\, Olla\, LA\, 71465\, United States
CATEGORIES:November 2024
END:VEVENT
BEGIN:VEVENT
DTSTART;TZID=UTC:20241105T183000
DTEND;TZID=UTC:20241105T193000
DTSTAMP:20260421T045440
CREATED:20240924T200335Z
LAST-MODIFIED:20240924T200335Z
UID:314-1730831400-1730835000@theallensmusic.com
SUMMARY:Aimoch Baptist Church
DESCRIPTION:
URL:https://theallensmusic.com/event/aimoch-baptist-church-5/
LOCATION:Aimoch Baptist Church\, 235 HWY 503\, Olla\, LA\, 71465\, United States
CATEGORIES:November 2024
END:VEVENT
BEGIN:VEVENT
DTSTART;TZID=UTC:20241104T183000
DTEND;TZID=UTC:20241104T193000
DTSTAMP:20260421T045440
CREATED:20240924T200200Z
LAST-MODIFIED:20240924T200200Z
UID:312-1730745000-1730748600@theallensmusic.com
SUMMARY:Aimoch Baptist Church
DESCRIPTION:
URL:https://theallensmusic.com/event/aimoch-baptist-church-4/
LOCATION:Aimoch Baptist Church\, 235 HWY 503\, Olla\, LA\, 71465\, United States
CATEGORIES:November 2024
END:VEVENT
BEGIN:VEVENT
DTSTART;TZID=UTC:20241103T180000
DTEND;TZID=UTC:20241103T190000
DTSTAMP:20260421T045440
CREATED:20240924T200118Z
LAST-MODIFIED:20240924T200118Z
UID:310-1730656800-1730660400@theallensmusic.com
SUMMARY:Aimoch Baptist Church
DESCRIPTION:
URL:https://theallensmusic.com/event/aimoch-baptist-church-3/
LOCATION:Aimoch Baptist Church\, 235 HWY 503\, Olla\, LA\, 71465\, United States
CATEGORIES:November 2024
END:VEVENT
BEGIN:VEVENT
DTSTART;TZID=UTC:20241103T103000
DTEND;TZID=UTC:20241103T233000
DTSTAMP:20260421T045440
CREATED:20240924T200008Z
LAST-MODIFIED:20240924T200008Z
UID:308-1730629800-1730676600@theallensmusic.com
SUMMARY:Aimoch Baptist Church
DESCRIPTION:
URL:https://theallensmusic.com/event/aimoch-baptist-church-2/
LOCATION:Aimoch Baptist Church\, 235 HWY 503\, Olla\, LA\, 71465\, United States
CATEGORIES:November 2024
END:VEVENT
BEGIN:VEVENT
DTSTART;TZID=UTC:20241102T140000
DTEND;TZID=UTC:20241102T170000
DTSTAMP:20260421T045440
CREATED:20240813T141702Z
LAST-MODIFIED:20240813T141702Z
UID:164-1730556000-1730566800@theallensmusic.com
SUMMARY:St. Jude Benefit
DESCRIPTION:
URL:https://theallensmusic.com/event/st-jude-benefit/
LOCATION:North Monroe Baptist Church\, 210 Finks Hideaway Road\, Monroe\, LA\, 71203\, United States
CATEGORIES:November 2024
END:VEVENT
BEGIN:VEVENT
DTSTART;TZID=UTC:20241027T100000
DTEND;TZID=UTC:20241027T110000
DTSTAMP:20260421T045440
CREATED:20240809T223212Z
LAST-MODIFIED:20240809T223212Z
UID:87-1730023200-1730026800@theallensmusic.com
SUMMARY:Caney Creek Cowboy Church
DESCRIPTION:
URL:https://theallensmusic.com/event/caney-creek-cowboy-church/
LOCATION:Caney Creek Cowboy Church\, 17703 Nonesuch Rd.\, Conroe\, TX\, 77306\, United States
CATEGORIES:October 2024
END:VEVENT
END:VCALENDAR