BEGIN:VCALENDAR
VERSION:2.0
PRODID:-//The Allens - ECPv6.15.20//NONSGML v1.0//EN
CALSCALE:GREGORIAN
METHOD:PUBLISH
X-WR-CALNAME:The Allens
X-ORIGINAL-URL:https://theallensmusic.com
X-WR-CALDESC:Events for The Allens
REFRESH-INTERVAL;VALUE=DURATION:PT1H
X-Robots-Tag:noindex
X-PUBLISHED-TTL:PT1H
BEGIN:VTIMEZONE
TZID:UTC
BEGIN:STANDARD
TZOFFSETFROM:+0000
TZOFFSETTO:+0000
TZNAME:UTC
DTSTART:20230101T000000
END:STANDARD
END:VTIMEZONE
BEGIN:VEVENT
DTSTART;TZID=UTC:20240818T170000
DTEND;TZID=UTC:20240818T180000
DTSTAMP:20260420T175326
CREATED:20240813T135653Z
LAST-MODIFIED:20240813T135812Z
UID:143-1724000400-1724004000@theallensmusic.com
SUMMARY:Fairmount Camp
DESCRIPTION:
URL:https://theallensmusic.com/event/fairmount-camp/
LOCATION:Fairmount Camp\, 711 E. 900 S.\, Fairmount\, IN\, 46928\, United States
CATEGORIES:August 2024
END:VEVENT
BEGIN:VEVENT
DTSTART;TZID=UTC:20240818T103000
DTEND;TZID=UTC:20240818T113000
DTSTAMP:20260420T175326
CREATED:20240813T135329Z
LAST-MODIFIED:20240813T135826Z
UID:140-1723977000-1723980600@theallensmusic.com
SUMMARY:Faith Community
DESCRIPTION:
URL:https://theallensmusic.com/event/faith-community/
LOCATION:Faith Community\, 4023 S. 1100 East\, Greentown\, IN\, 46936\, United States
CATEGORIES:August 2024
END:VEVENT
BEGIN:VEVENT
DTSTART;TZID=UTC:20240809T180000
DTEND;TZID=UTC:20240809T190000
DTSTAMP:20260420T175326
CREATED:20240809T214655Z
LAST-MODIFIED:20240809T214655Z
UID:59-1723226400-1723230000@theallensmusic.com
SUMMARY:FBC Tullos
DESCRIPTION:
URL:https://theallensmusic.com/event/fbc-tullos/
LOCATION:FBC Tullos\, 9970 Main St\, Tullos\, LA\, 71479\, United States
CATEGORIES:September 2024
END:VEVENT
END:VCALENDAR