BEGIN:VCALENDAR
VERSION:2.0
PRODID:-//The Allens - ECPv6.15.20//NONSGML v1.0//EN
CALSCALE:GREGORIAN
METHOD:PUBLISH
X-WR-CALNAME:The Allens
X-ORIGINAL-URL:https://theallensmusic.com
X-WR-CALDESC:Events for The Allens
REFRESH-INTERVAL;VALUE=DURATION:PT1H
X-Robots-Tag:noindex
X-PUBLISHED-TTL:PT1H
BEGIN:VTIMEZONE
TZID:America/Chicago
BEGIN:DAYLIGHT
TZOFFSETFROM:-0600
TZOFFSETTO:-0500
TZNAME:CDT
DTSTART:20240310T080000
END:DAYLIGHT
BEGIN:STANDARD
TZOFFSETFROM:-0500
TZOFFSETTO:-0600
TZNAME:CST
DTSTART:20241103T070000
END:STANDARD
BEGIN:DAYLIGHT
TZOFFSETFROM:-0600
TZOFFSETTO:-0500
TZNAME:CDT
DTSTART:20250309T080000
END:DAYLIGHT
BEGIN:STANDARD
TZOFFSETFROM:-0500
TZOFFSETTO:-0600
TZNAME:CST
DTSTART:20251102T070000
END:STANDARD
BEGIN:DAYLIGHT
TZOFFSETFROM:-0600
TZOFFSETTO:-0500
TZNAME:CDT
DTSTART:20260308T080000
END:DAYLIGHT
BEGIN:STANDARD
TZOFFSETFROM:-0500
TZOFFSETTO:-0600
TZNAME:CST
DTSTART:20261101T070000
END:STANDARD
END:VTIMEZONE
BEGIN:VTIMEZONE
TZID:America/Detroit
BEGIN:DAYLIGHT
TZOFFSETFROM:-0500
TZOFFSETTO:-0400
TZNAME:EDT
DTSTART:20240310T070000
END:DAYLIGHT
BEGIN:STANDARD
TZOFFSETFROM:-0400
TZOFFSETTO:-0500
TZNAME:EST
DTSTART:20241103T060000
END:STANDARD
BEGIN:DAYLIGHT
TZOFFSETFROM:-0500
TZOFFSETTO:-0400
TZNAME:EDT
DTSTART:20250309T070000
END:DAYLIGHT
BEGIN:STANDARD
TZOFFSETFROM:-0400
TZOFFSETTO:-0500
TZNAME:EST
DTSTART:20251102T060000
END:STANDARD
BEGIN:DAYLIGHT
TZOFFSETFROM:-0500
TZOFFSETTO:-0400
TZNAME:EDT
DTSTART:20260308T070000
END:DAYLIGHT
BEGIN:STANDARD
TZOFFSETFROM:-0400
TZOFFSETTO:-0500
TZNAME:EST
DTSTART:20261101T060000
END:STANDARD
END:VTIMEZONE
BEGIN:VEVENT
DTSTART;TZID=America/Chicago:20251026T110000
DTEND;TZID=America/Chicago:20251026T120000
DTSTAMP:20260420T222408
CREATED:20250828T194423Z
LAST-MODIFIED:20250828T194423Z
UID:893-1761476400-1761480000@theallensmusic.com
SUMMARY:Canaan Baptist Church
DESCRIPTION:
URL:https://theallensmusic.com/event/canaan-baptist-church-6/
LOCATION:Canaan Baptist Church\, 18486 Sanders Rd.\, Franklinton\, LA\, 70438\, United States
END:VEVENT
BEGIN:VEVENT
DTSTART;TZID=America/Chicago:20251019T180000
DTEND;TZID=America/Chicago:20251019T190000
DTSTAMP:20260420T222408
CREATED:20250828T194320Z
LAST-MODIFIED:20250828T194320Z
UID:891-1760896800-1760900400@theallensmusic.com
SUMMARY:Kedron Baptist Church
DESCRIPTION:
URL:https://theallensmusic.com/event/kedron-baptist-church/
LOCATION:Kedron Baptist Church\, 922 LA-1046\, Amite City\, LA\, 70422\, United States
END:VEVENT
BEGIN:VEVENT
DTSTART;TZID=America/Chicago:20251019T103000
DTEND;TZID=America/Chicago:20251019T113000
DTSTAMP:20260420T222408
CREATED:20250828T194210Z
LAST-MODIFIED:20250828T194210Z
UID:886-1760869800-1760873400@theallensmusic.com
SUMMARY:Pilgrims Rest Baptist Church
DESCRIPTION:
URL:https://theallensmusic.com/event/pilgrims-rest-baptist-church-2/
LOCATION:Pilgrim’s Rest Baptist Church\, Crystal Springs\, 3121 Didlake Rd.\, Crystal Springs\, MS\, 39059\, United States
END:VEVENT
BEGIN:VEVENT
DTSTART;TZID=America/Chicago:20251016T130000
DTEND;TZID=America/Chicago:20251016T140000
DTSTAMP:20260420T222408
CREATED:20250921T175534Z
LAST-MODIFIED:20250921T175534Z
UID:920-1760619600-1760623200@theallensmusic.com
SUMMARY:Washington Parish Fair
DESCRIPTION:
URL:https://theallensmusic.com/event/washington-parish-fair/
LOCATION:Washington Parish Fairgrounds\, 100 Main Street\, Franklinton\, LA\, 70438\, United States
END:VEVENT
BEGIN:VEVENT
DTSTART;TZID=America/Chicago:20251012T110000
DTEND;TZID=America/Chicago:20251012T120000
DTSTAMP:20260420T222408
CREATED:20250828T193840Z
LAST-MODIFIED:20250828T193840Z
UID:884-1760266800-1760270400@theallensmusic.com
SUMMARY:Crane Creek Baptist Church
DESCRIPTION:
URL:https://theallensmusic.com/event/crane-creek-baptist-church-4/
LOCATION:Crane Creek Baptist Church\, 30040 Crane Creek Rd\, Perkinston\, MS\, 39573\, United States
END:VEVENT
BEGIN:VEVENT
DTSTART;TZID=America/Chicago:20251012T083000
DTEND;TZID=America/Chicago:20251012T093000
DTSTAMP:20260420T222408
CREATED:20250828T193740Z
LAST-MODIFIED:20250828T193740Z
UID:882-1760257800-1760261400@theallensmusic.com
SUMMARY:Crane Creek Baptist Church
DESCRIPTION:
URL:https://theallensmusic.com/event/crane-creek-baptist-church-3/
LOCATION:Crane Creek Baptist Church\, 30040 Crane Creek Rd\, Perkinston\, MS\, 39573\, United States
END:VEVENT
BEGIN:VEVENT
DTSTART;TZID=America/Chicago:20251005T100000
DTEND;TZID=America/Chicago:20251005T110000
DTSTAMP:20260420T222408
CREATED:20250828T193502Z
LAST-MODIFIED:20250828T193502Z
UID:880-1759658400-1759662000@theallensmusic.com
SUMMARY:River Fellowship Church
DESCRIPTION:
URL:https://theallensmusic.com/event/river-fellowship-church/
LOCATION:The River Fellowship\, 45173 River Rd\, Hammond\, LA\, 70401\, United States
END:VEVENT
BEGIN:VEVENT
DTSTART;TZID=America/Chicago:20251001T190000
DTEND;TZID=America/Chicago:20251001T200000
DTSTAMP:20260420T222408
CREATED:20250501T204323Z
LAST-MODIFIED:20250501T204323Z
UID:770-1759345200-1759348800@theallensmusic.com
SUMMARY:First Baptist Church
DESCRIPTION:
URL:https://theallensmusic.com/event/first-baptist-church-12/
LOCATION:First Baptist Church Converse\, 211 W Caddo Ave\, Converse\, LA\, 71419\, United States
END:VEVENT
BEGIN:VEVENT
DTSTART;TZID=America/Chicago:20250930T190000
DTEND;TZID=America/Chicago:20250930T200000
DTSTAMP:20260420T222408
CREATED:20250501T204227Z
LAST-MODIFIED:20250501T204227Z
UID:768-1759258800-1759262400@theallensmusic.com
SUMMARY:First Baptist Church
DESCRIPTION:
URL:https://theallensmusic.com/event/first-baptist-church-11/
LOCATION:First Baptist Church Converse\, 211 W Caddo Ave\, Converse\, LA\, 71419\, United States
END:VEVENT
BEGIN:VEVENT
DTSTART;TZID=America/Chicago:20250929T190000
DTEND;TZID=America/Chicago:20250929T200000
DTSTAMP:20260420T222408
CREATED:20250501T204141Z
LAST-MODIFIED:20250501T204141Z
UID:766-1759172400-1759176000@theallensmusic.com
SUMMARY:First Baptist Church
DESCRIPTION:
URL:https://theallensmusic.com/event/first-baptist-church-10/
LOCATION:First Baptist Church Converse\, 211 W Caddo Ave\, Converse\, LA\, 71419\, United States
END:VEVENT
BEGIN:VEVENT
DTSTART;TZID=America/Chicago:20250928T180000
DTEND;TZID=America/Chicago:20250928T190000
DTSTAMP:20260420T222408
CREATED:20250501T204050Z
LAST-MODIFIED:20250501T204050Z
UID:764-1759082400-1759086000@theallensmusic.com
SUMMARY:First Baptist Church
DESCRIPTION:
URL:https://theallensmusic.com/event/first-baptist-church-9/
LOCATION:First Baptist Church Converse\, 211 W Caddo Ave\, Converse\, LA\, 71419\, United States
END:VEVENT
BEGIN:VEVENT
DTSTART;TZID=America/Chicago:20250928T104500
DTEND;TZID=America/Chicago:20250928T114500
DTSTAMP:20260420T222408
CREATED:20250501T203957Z
LAST-MODIFIED:20250501T203957Z
UID:760-1759056300-1759059900@theallensmusic.com
SUMMARY:First Baptist Church
DESCRIPTION:
URL:https://theallensmusic.com/event/first-baptist-church-8/
LOCATION:First Baptist Church Converse\, 211 W Caddo Ave\, Converse\, LA\, 71419\, United States
END:VEVENT
BEGIN:VEVENT
DTSTART;TZID=America/Detroit:20250927T180000
DTEND;TZID=America/Detroit:20250927T190000
DTSTAMP:20260420T222408
CREATED:20250718T001708Z
LAST-MODIFIED:20250719T002122Z
UID:829-1758996000-1758999600@theallensmusic.com
SUMMARY:The Gospel Barn
DESCRIPTION:
URL:https://theallensmusic.com/event/the-gospel-barn/
LOCATION:The Gospel Barn\, 4751 Bankers Rd.\, Hillsdale\, MI\, 49242\, United States
END:VEVENT
BEGIN:VEVENT
DTSTART;TZID=America/Detroit:20250922T200000
DTEND;TZID=America/Detroit:20250922T210000
DTSTAMP:20260420T222408
CREATED:20250921T175408Z
LAST-MODIFIED:20250921T175408Z
UID:918-1758571200-1758574800@theallensmusic.com
SUMMARY:Riverbend Campground
DESCRIPTION:
URL:https://theallensmusic.com/event/riverbend-campground/
LOCATION:Riverbend Campground\, 2479 Riverbend Loop\, Pigeon Forge\, TN\, 37863\, United States
END:VEVENT
BEGIN:VEVENT
DTSTART;TZID=America/Detroit:20250921T180000
DTEND;TZID=America/Detroit:20250921T190000
DTSTAMP:20260420T222408
CREATED:20250828T193349Z
LAST-MODIFIED:20250828T193349Z
UID:876-1758477600-1758481200@theallensmusic.com
SUMMARY:Limestone Free Will Baptist Church
DESCRIPTION:
URL:https://theallensmusic.com/event/limestone-free-will-baptist-church/
LOCATION:Limestone Free Will Baptist Church\, 3709 Old State Rt 34\, TN\, 37681\, United States
END:VEVENT
BEGIN:VEVENT
DTSTART;TZID=America/Chicago:20250916T183000
DTEND;TZID=America/Chicago:20250916T200000
DTSTAMP:20260420T222408
CREATED:20250804T212200Z
LAST-MODIFIED:20250804T212200Z
UID:856-1758047400-1758052800@theallensmusic.com
SUMMARY:Cowboy Baptist
DESCRIPTION:
URL:https://theallensmusic.com/event/cowboy-baptist/
LOCATION:Cowboy Baptist Church\, 11835 Argyle Rd.\, Irvington\, AL\, 36544\, United States
END:VEVENT
BEGIN:VEVENT
DTSTART;TZID=America/Detroit:20250914T110000
DTEND;TZID=America/Detroit:20250914T120000
DTSTAMP:20260420T222408
CREATED:20250411T190111Z
LAST-MODIFIED:20250411T190111Z
UID:729-1757847600-1757851200@theallensmusic.com
SUMMARY:Sand Spring Baptist Church
DESCRIPTION:
URL:https://theallensmusic.com/event/sand-spring-baptist-church-2/
LOCATION:Sand Spring Baptist Church\, 1616 Harrodsburg Rd\, Lawrenceburg\, KY\, 40342\, United States
END:VEVENT
BEGIN:VEVENT
DTSTART;TZID=America/Detroit:20250914T084500
DTEND;TZID=America/Detroit:20250914T094500
DTSTAMP:20260420T222408
CREATED:20250411T185936Z
LAST-MODIFIED:20250411T185936Z
UID:725-1757839500-1757843100@theallensmusic.com
SUMMARY:Sand Spring Baptist Church
DESCRIPTION:
URL:https://theallensmusic.com/event/sand-spring-baptist-church/
LOCATION:Sand Spring Baptist Church\, 1616 Harrodsburg Rd\, Lawrenceburg\, KY\, 40342\, United States
END:VEVENT
BEGIN:VEVENT
DTSTART;TZID=America/Detroit:20250911T104500
DTEND;TZID=America/Detroit:20250911T114500
DTSTAMP:20260420T222408
CREATED:20250411T185504Z
LAST-MODIFIED:20250411T185504Z
UID:723-1757587500-1757591100@theallensmusic.com
SUMMARY:First Light Church
DESCRIPTION:
URL:https://theallensmusic.com/event/first-light-church-2/
LOCATION:First Light Church\, 140 Elva Ct\, Vandalia\, OH\, 45377\, United States
END:VEVENT
BEGIN:VEVENT
DTSTART;TZID=America/Detroit:20250907T103000
DTEND;TZID=America/Detroit:20250907T113000
DTSTAMP:20260420T222408
CREATED:20250411T185134Z
LAST-MODIFIED:20250411T185134Z
UID:719-1757241000-1757244600@theallensmusic.com
SUMMARY:12th Street Baptist Church
DESCRIPTION:
URL:https://theallensmusic.com/event/12th-street-baptist-church/
LOCATION:12th Street Baptist\, 3911 S. 12th Street\, Kalamazoo\, MI\, 49009\, United States
END:VEVENT
BEGIN:VEVENT
DTSTART;TZID=America/Detroit:20250831T183000
DTEND;TZID=America/Detroit:20250831T193000
DTSTAMP:20260420T222408
CREATED:20250501T192755Z
LAST-MODIFIED:20250501T192755Z
UID:739-1756665000-1756668600@theallensmusic.com
SUMMARY:Kline's RV Resort
DESCRIPTION:
URL:https://theallensmusic.com/event/klines-rv-resort/
LOCATION:Kline’s RV Resort\, 22260 Klines Resort Rd\, Three Rivers\, MI\, 49093\, United States
END:VEVENT
BEGIN:VEVENT
DTSTART;TZID=America/Detroit:20250831T104500
DTEND;TZID=America/Detroit:20250831T114500
DTSTAMP:20260420T222408
CREATED:20250501T202830Z
LAST-MODIFIED:20250501T202830Z
UID:752-1756637100-1756640700@theallensmusic.com
SUMMARY:First Baptist Church
DESCRIPTION:
URL:https://theallensmusic.com/event/first-baptist-church-7/
LOCATION:First Baptist Church Canton\, 44500 Cherry Hill Rd\, Canton\, MI\, 48187\, United States
END:VEVENT
BEGIN:VEVENT
DTSTART;TZID=America/Chicago:20250824T103000
DTEND;TZID=America/Chicago:20250824T113000
DTSTAMP:20260420T222408
CREATED:20250411T184948Z
LAST-MODIFIED:20250411T184948Z
UID:715-1756031400-1756035000@theallensmusic.com
SUMMARY:Maranatha Baptist Church
DESCRIPTION:
URL:https://theallensmusic.com/event/maranatha-baptist-church/
LOCATION:Maranatha Baptist Church\, 3400 Dewitt Ave\, Mattoon\, Mattoon\, IL\, 61938\, United States
END:VEVENT
BEGIN:VEVENT
DTSTART;TZID=America/Detroit:20250817T180000
DTEND;TZID=America/Detroit:20250817T190000
DTSTAMP:20260420T222408
CREATED:20250804T210252Z
LAST-MODIFIED:20250804T210252Z
UID:839-1755453600-1755457200@theallensmusic.com
SUMMARY:Gum Stand Baptist Church
DESCRIPTION:
URL:https://theallensmusic.com/event/gum-stand-baptist-church/
LOCATION:Gum Stand Baptist Church\, 3031 Veterans Blvd.\, Pigeon Forge\, TN\, 37863\, United States
END:VEVENT
BEGIN:VEVENT
DTSTART;TZID=America/Detroit:20250817T103000
DTEND;TZID=America/Detroit:20250817T113000
DTSTAMP:20260420T222408
CREATED:20250731T190204Z
LAST-MODIFIED:20250731T190204Z
UID:835-1755426600-1755430200@theallensmusic.com
SUMMARY:Clear Springs Church
DESCRIPTION:
URL:https://theallensmusic.com/event/clear-springs-church/
LOCATION:Clear Springs Church\, 4058 Clear Springs Rd.\, Limestone\, TN\, 37681\, United States
END:VEVENT
BEGIN:VEVENT
DTSTART;TZID=America/Detroit:20250810T180000
DTEND;TZID=America/Detroit:20250810T190000
DTSTAMP:20260420T222408
CREATED:20250804T210949Z
LAST-MODIFIED:20250804T210949Z
UID:847-1754848800-1754852400@theallensmusic.com
SUMMARY:Murphy Church of God
DESCRIPTION:
URL:https://theallensmusic.com/event/murphy-church-of-god/
LOCATION:Murphy Church of God\, 129 Church of Christ Rd.\, Murphy\, NC\, 28906\, United States
END:VEVENT
BEGIN:VEVENT
DTSTART;TZID=America/Detroit:20250810T110000
DTEND;TZID=America/Detroit:20250810T120000
DTSTAMP:20260420T222408
CREATED:20250501T192417Z
LAST-MODIFIED:20250501T192417Z
UID:735-1754823600-1754827200@theallensmusic.com
SUMMARY:First Baptist Church
DESCRIPTION:
URL:https://theallensmusic.com/event/first-baptist-church-6/
LOCATION:First Baptist Church Murphy\, 517 Hiwassee Street\, Murphy\, NC\, 28906-3211\, United States
END:VEVENT
BEGIN:VEVENT
DTSTART;TZID=America/Detroit:20250803T100000
DTEND;TZID=America/Detroit:20250803T110000
DTSTAMP:20260420T222408
CREATED:20250501T202318Z
LAST-MODIFIED:20250728T194641Z
UID:748-1754215200-1754218800@theallensmusic.com
SUMMARY:Turners Chapel
DESCRIPTION:
URL:https://theallensmusic.com/event/turners-chapel/
LOCATION:Turners Chapel Free Will Baptist Church\, 911 Roberta Hwy\, Butler\, GA\, 31006\, United States
END:VEVENT
BEGIN:VEVENT
DTSTART;TZID=America/Detroit:20250724T110000
DTEND;TZID=America/Detroit:20250724T120000
DTSTAMP:20260420T222408
CREATED:20250506T213254Z
LAST-MODIFIED:20250506T213254Z
UID:792-1753354800-1753358400@theallensmusic.com
SUMMARY:Shingleroof Campground
DESCRIPTION:
URL:https://theallensmusic.com/event/shingleroof-campground/
LOCATION:Shingleroof Campground\, 200 Campground Ct.\, Mcdonough\, GA\, 30253\, United States
END:VEVENT
BEGIN:VEVENT
DTSTART;TZID=America/Detroit:20250629T180000
DTEND;TZID=America/Detroit:20250629T190000
DTSTAMP:20260420T222408
CREATED:20250410T191237Z
LAST-MODIFIED:20250410T191237Z
UID:710-1751220000-1751223600@theallensmusic.com
SUMMARY:Riegelwood Baptist Church
DESCRIPTION:
URL:https://theallensmusic.com/event/riegelwood-baptist-church/
LOCATION:Riegelwood Baptist Church\, 103 NC-87\, Riegelwood\, NC\, 28456\, United States
END:VEVENT
END:VCALENDAR